BEGIN:VCALENDAR
VERSION:2.0
PRODID:-//www.fanproject.fr - ECPv6.15.20//NONSGML v1.0//EN
CALSCALE:GREGORIAN
METHOD:PUBLISH
X-ORIGINAL-URL:https://www.fanproject.fr
X-WR-CALDESC:Évènements pour www.fanproject.fr
REFRESH-INTERVAL;VALUE=DURATION:PT1H
X-Robots-Tag:noindex
X-PUBLISHED-TTL:PT1H
BEGIN:VTIMEZONE
TZID:Europe/Paris
BEGIN:DAYLIGHT
TZOFFSETFROM:+0100
TZOFFSETTO:+0200
TZNAME:CEST
DTSTART:20260329T010000
END:DAYLIGHT
BEGIN:STANDARD
TZOFFSETFROM:+0200
TZOFFSETTO:+0100
TZNAME:CET
DTSTART:20261025T010000
END:STANDARD
BEGIN:DAYLIGHT
TZOFFSETFROM:+0100
TZOFFSETTO:+0200
TZNAME:CEST
DTSTART:20270328T010000
END:DAYLIGHT
BEGIN:STANDARD
TZOFFSETFROM:+0200
TZOFFSETTO:+0100
TZNAME:CET
DTSTART:20271031T010000
END:STANDARD
BEGIN:DAYLIGHT
TZOFFSETFROM:+0100
TZOFFSETTO:+0200
TZNAME:CEST
DTSTART:20280326T010000
END:DAYLIGHT
BEGIN:STANDARD
TZOFFSETFROM:+0200
TZOFFSETTO:+0100
TZNAME:CET
DTSTART:20281029T010000
END:STANDARD
END:VTIMEZONE
BEGIN:VEVENT
DTSTART;VALUE=DATE:20270205
DTEND;VALUE=DATE:20270316
DTSTAMP:20260420T211902
CREATED:20251128T133700Z
LAST-MODIFIED:20260401T125311Z
UID:6230-1801785600-1805155199@www.fanproject.fr
SUMMARY:Voyage Tournoi des 6 Nations | Cardiff
DESCRIPTION:Voyage et billet 6 Nations Pays de Galles – Partez pour Cardiff et vibrez dans le mythique Principality Stadium ! 				\n				\n							\n			\n											\n												\n											\n					\n											\n				\n									\n									\n						\n				\n					Découvrez la passion galloise pour le rugby dans son antre !				\n				\n									Le Pays de Galles est sans doute la nation où le rugby est le plus profondément enraciné dans l’identité du pays. Assister à un match du Tournoi des 6 Nations au Principality Stadium\, c’est vivre une émotion pure\, un moment où le sport se mêle à la culture\, à la tradition et au patriotisme gallois. Entre ferveur populaire\, chants mythiques et intensité sur le terrain\, un séjour rugby à Cardiff est une expérience unique\, taillée pour les passionnés comme pour les voyageurs curieux. Fan Project vous propose un voyage sur mesure au Pays de Galles\, afin de découvrir l’âme du rugby gallois et de vivre un match inoubliable dans l’un des stades les plus emblématiques au monde. 								\n				\n					Le Principality Stadium : le Temple du Rugby Gallois				\n				\n									Situé en plein centre-ville\, le Principality Stadium est une enceinte mythique\, connue pour son toit rétractable et son atmosphère électrique. Lors d’un match du Tournoi des 6 Nations\, la ville entière se transforme en une immense fête rouge. L’ambiance y est tout simplement légendaire : Les rues de Cardiff envahies de supporters en rougeLes chants gallois repris à l’unissonLa chaleur humaine incomparable des fansLa tension unique des grandes rencontresQuand retentit « Hen Wlad Fy Nhadau » plus connu chez nous comme le « Land of my father »\, l’hymne national gallois\, chanté avec une puissance rare par tout le stade… les frissons sont garantis. Le show est d’autant plus exceptionnel dans ce stade fermé et cela dès l’entame de match avec le feu d’artifice tiré ou encore lorsque les gallois nous réservent des surprises. Comme lors de la présence de la légende Max Boyce\, qui entonna sont célèbre « Hymns and Arias » lors du dernier Pays de Galles – France en 2024 !  								\n				\n					Le XV du Poireau : Tradition\, Courage et Âme Galloise				\n				\n									Sélection la plus titrée du tournoi des 6 Nations avec la France\, elle fait partie de l’histoire même du rugby mondial. Portée par un peuple passionné\, la sélection galloise joue avec cœur\, courage et générosité. Depuis quelques années cependant\, le Pays de Galles à du mal à renouveler son effectif et trouver une génération qui pourra succéder aux légendes vainqueur du dernier grand chelem Alu Wyn Jones\, Jonathan Davies\, Dan Biggar\, Leigh Halfpenny\, Justin Tipuric ou Gareth Davies. Dorénavant\, il faudra compter sur des joueurs d’expériences que sont Tomos Williams\, Aaron Wainwright\, Josh Adams et Rhys Carré\, auteur d’un formidable tournoi 2026 en atteste sa présence dans l’équipe du tournoi . Ces derniers seront également épaulés par l’une des stars de cette séléction Louis Rees-Zammit suite à son retour au rugby après un passage par la NFL.  Malgré cela\, chaque match est un moment d’intensité où le pays entier vibre au rythme du ballon ovale. 								\n					\n				\n		\n				\n					Cardiff : Mêlez séjour rugby & découverte culturelle				\n				\n									Cardiff est une capitale vivante et accueillante\, parfaite pour un week-end rugby. Elle mêle tradition\, modernité et histoire galloise. À découvrir pendant votre séjour : Le Cardiff Castle situé au coeur du centre-villeLe Musée National de CardiffLes pubs animés de St Mary StreetLa baie de Cardiff et son architecture contemporaineUne journée de libre sur place ? Bristol et Bath se situent à moins d’une heure en train de Cardiff ! Lors d’un weekend de match au Principality\, la fête continue dans les rues\, les pubs et les places emblématiques de la ville. 								\n				\n					Votre Voyage Rugby à Cardiff 100 % Sur Mesure avec Fan Project				\n				\n									Chez Fan Project\, nous créons des voyages 6 nations sur-mesure pour que vous puissiez vivre votre match dans les meilleures conditions. Nos offres incluent à minima : Billet officiels pour un match des 6 nations au Principality StadiumSéjour clé en main avec hébergement sélectionné selon vos enviesAssistance francophone pendant tout votre séjourSelon vos demandes et besoins nous pouvons également ajouter à votre séjour des prestations complémentaires telles que : Transport depuis chez vous Transferts depuis la gare vers votre hôtel et le stadeVisites : Château de Cardiff\, Musée national de la ville\, excursion à Bath ou Bristol…Accompagnement avec notre équipe de Fan PojectQue vous voyagiez en couple\, entre amis\, en famille ou pour un voyage d’entreprise\, nous créons votre voyage sur mesure pour les 6 nations\, pour vivre à votre manière\, l’un des plus beaux moments de sports de l’année.  								\n				\n					Nos offres tarifaires personnalisables				\n				\n					\n		\n\n													\n				\n									\n											\n							Pays de Galles vs Irlande - 20 février						\n																		\n																			Tarifs bientôt disponibles\n										\n															\n							Place pour le match - 2 nuits en hôtel 3 étoiles avec petit-déjeuner dans le centre ville de Londres  du 19 au 21 février - Train aller-retour Londres-Cardiff. \nPrix calculé sur la base d'un séjour pour 2 personnes en chambre double/twin. Supplément nuit du 19 au 21 février à Cardiff +210€ par personne.						 \n								\n																				\n				\n									\n											\n							Pays de Galles vs Angleterre - 6 mars						\n																		\n																			Tarifs bientôt disponibles\n										\n															\n							Place pour le match  - 2 nuits en hôtel 3 étoiles avec petit-déjeuner dans le centre ville de Londres du 5 au 7 mars - Train aller-retour Londres-Cardiff. Prix calculé sur la base d'un séjour pour 2 personnes en chambre double/twin. Supplément nuit à Cardiff +160€ par personne.						 \n								\n									\n		\n\n						\n				\n					FAQ : 				\n				\n							\n							\n					\n													\n															\n								\n														\n												Pourquoi réserver avec nous ?\n					\n					Pour vivre un match du XV du Poireau au Principality Stadium sans stress\, faites confiance à notre expertise : Conseil personnalisés grâce à notre connaissance de la destination et du stadeGarantie d’obtention de billets : Même pour les matchs à forte demandeEmplacement optimal : Nous sélectionnons les meilleures places selon vos préférences et votre budget.Billets livrés à votre hôtel ou envoyés électroniquement pour votre confortService client francophone disponible pour répondre à toutes vos questionsDiscutons ensemble de votre séjour\, pour répondre aux mieux à vos envies et besoins. \n				\n							\n					\n													\n															\n								\n														\n												Que comprennent nos tarifs pour ces séjours ?\n					\n					Le tarif est un indicatif par personne pour 2 personnes en chambre double/twin et est sous réserve de disponibilité au moment de la réservation. Cette proposition est personnalisable\, faites nous part de vos demandes pour que nous puissions créer ensemble\, votre séjour idéal.Nos voyages sont calculés sur la base d’un séjour d’une nuit à Cardiff\, avec train aller-retour depuis Londres\, petit-déjeuner inclus avec billet pour le match en place standard. Les prix varient selon: L’emplacement dans le stadeL’adversaireLa durée du séjourL’hébergementNos offres étant sur-mesure\, nous mettrons tout en œuvre pour vous proposer la solution la plus adaptée à vos envies. Cardiff étant situé à 2h en train de Londres\, nous avons également la possibilité de vous proposer un séjour dans la capitale anglaise et de vous organiser le déplacement pour le match.  \n				\n							\n					\n													\n															\n								\n														\n												Hébergement : Notre Sélection Exclusive\n					\n					Nos clients bénéficient d’une sélection d’hébergements soigneusement choisis par notre équipe : Boutique-hôtels exclusifsHôtel au coeur du centre-villeLogements préservés du tourisme de masseAppartements de standingOptions authentiques sélectionnées pour leur charmeNotre sélection d’hébergements privés n’est révélée qu’à nos clients et fait partie des « secrets » qui rendent nos voyages véritablement uniques. Selon votre budget et vos préférences\, nous vous proposerons l’option parfaite pour profiter des matchs. \n				\n										\n					\n						\n		\n				\n										\n						\n									Séjour 6 Nations Cardiff - Tarifs bientôt disponibles\n					\n					\n								\n				\n				\n		\n					\n				\n							\n	Remarque : JavaScript est requis pour ce contenu.\n\n\n    \n\n\n        \n        \n        \n\n\n\n\n\n\n\n\n\n\n\n        \n\n        \n\n        \n						\n		\n				\n										\n						\n									Séjour 6 Nations Cardiff - Tarifs bientôt disponibles
URL:https://www.fanproject.fr/voyage/6-nations-cardiff/
LOCATION:Pays de Galles\, Cardiff
CATEGORIES:Rugby,Sport
ATTACH;FMTTYPE=image/jpeg:https://www.fanproject.fr/wp-content/uploads/2025/11/Vue-Westgate-Principality-Stadium-scaled-e1764331794613.jpg
END:VEVENT
END:VCALENDAR